BEGIN:VCALENDAR
VERSION:2.0
PRODID:-//Atmosphere Commercial Interiors - ECPv5.14.1//NONSGML v1.0//EN
CALSCALE:GREGORIAN
METHOD:PUBLISH
X-WR-CALNAME:Atmosphere Commercial Interiors
X-ORIGINAL-URL:https://www.atmosphereci.com
X-WR-CALDESC:Events for Atmosphere Commercial Interiors
BEGIN:VTIMEZONE
TZID:America/Chicago
BEGIN:DAYLIGHT
TZOFFSETFROM:-0600
TZOFFSETTO:-0500
TZNAME:CDT
DTSTART:20190310T080000
END:DAYLIGHT
BEGIN:STANDARD
TZOFFSETFROM:-0500
TZOFFSETTO:-0600
TZNAME:CST
DTSTART:20191103T070000
END:STANDARD
END:VTIMEZONE
BEGIN:VEVENT
DTSTART;TZID=America/Chicago:20190523T163000
DTEND;TZID=America/Chicago:20190523T183000
DTSTAMP:20260421T064733
CREATED:20190502T135207Z
LAST-MODIFIED:20190502T152514Z
UID:166611-1558629000-1558636200@www.atmosphereci.com
SUMMARY:Well-Being in Our World
DESCRIPTION:Restore your calm + re-energize with a Yoga Nidra class and Well-Being CEU. \n\n                \n                        \n                            RSVP\n                            Please enter your information below to RSVP for this event! \n                        \n                        Name\n                            \n                                                    \n                                                    First\n                                               \n                            \n                                                    \n                                                    Last\n                                                \n                            \n                        Email *  Required\n                            \n                        Event \n          \n            \n            \n            \n            \n            \n            \n            \n            \n            \n        \n                        Δ
URL:https://www.atmosphereci.com/event/well-being-in-our-world/
LOCATION:Perennial Yoga\, 5500 East Cheryl Parkway\, Fitchburg\, WI\, 53711\, United States
CATEGORIES:Madison
END:VEVENT
END:VCALENDAR