BEGIN:VCALENDAR
VERSION:2.0
PRODID:-//Atmosphere Commercial Interiors - ECPv5.14.1//NONSGML v1.0//EN
CALSCALE:GREGORIAN
METHOD:PUBLISH
X-WR-CALNAME:Atmosphere Commercial Interiors
X-ORIGINAL-URL:https://www.atmosphereci.com
X-WR-CALDESC:Events for Atmosphere Commercial Interiors
BEGIN:VTIMEZONE
TZID:America/Chicago
BEGIN:DAYLIGHT
TZOFFSETFROM:-0600
TZOFFSETTO:-0500
TZNAME:CDT
DTSTART:20180311T080000
END:DAYLIGHT
BEGIN:STANDARD
TZOFFSETFROM:-0500
TZOFFSETTO:-0600
TZNAME:CST
DTSTART:20181104T070000
END:STANDARD
END:VTIMEZONE
BEGIN:VEVENT
DTSTART;TZID=America/Chicago:20180906T163000
DTEND;TZID=America/Chicago:20180906T190000
DTSTAMP:20260421T092940
CREATED:20180815T131522Z
LAST-MODIFIED:20180815T133622Z
UID:165639-1536251400-1536260400@www.atmosphereci.com
SUMMARY:Creative Series: Teaching Creativity CEU Eau Claire
DESCRIPTION:  \n\n                \n                        \n                            RSVP\n                            Please enter your information below to RSVP for this event! \n                        \n                        Name\n                            \n                                                    \n                                                    First\n                                               \n                            \n                                                    \n                                                    Last\n                                                \n                            \n                        Email *  Required\n                            \n                        Event \n          \n            \n            \n            \n            \n            \n            \n            \n            \n            \n        \n                        Δ
URL:https://www.atmosphereci.com/event/creative-series-teaching-creativity-ceu-eau-claire/
LOCATION:The Lismore Hotel\, 333 Gibson Street\, Eau Claire\, WI\, 54701\, United States
CATEGORIES:Eau Claire
ORGANIZER;CN="Atmosphere%20Commercial%20Interiors":MAILTO:rsvp@atmosphereci.com
GEO:44.8117153;-91.499157
X-APPLE-STRUCTURED-LOCATION;VALUE=URI;X-ADDRESS=The Lismore Hotel 333 Gibson Street Eau Claire WI 54701 United States;X-APPLE-RADIUS=500;X-TITLE=333 Gibson Street:geo:-91.499157,44.8117153
END:VEVENT
END:VCALENDAR